BEGIN:VCALENDAR
VERSION:2.0
PRODID:-//ChamberMaster//Event Calendar 2.0//EN
METHOD:PUBLISH
X-PUBLISHED-TTL:P3D
REFRESH-INTERVAL:P3D
CALSCALE:GREGORIAN
BEGIN:VEVENT
DTSTART:20210617T230000Z
DTEND:20210618T020000Z
X-MICROSOFT-CDO-ALLDAYEVENT:FALSE
SUMMARY:Wine and Waterfowl Bingo at Winehaven!
DESCRIPTION:Winehaven is teaming up with friends at Ducks Unlimited for a fantastic evening of bingo at the winery.  Win delicious Winehaven wine!  Win fantastic Yeti coolers!  You can even win guns!  Registration is $20 and gets you a one-year membership to Ducks Unlimited!  Bingo sets are sold at check-in for $40.00 and food\, beer and wine will be available for purchase during the event.  Space is limited and pre-registration is required at: ducks.org
X-ALT-DESC;FMTTYPE=text/html:Winehaven is teaming up with friends at Ducks Unlimited for a fantastic evening of bingo at the winery.&nbsp\; Win delicious Winehaven wine!&nbsp\; Win fantastic Yeti coolers!&nbsp\; You can even win guns!&nbsp\; Registration is $20 and gets you a one-year membership to Ducks Unlimited!&nbsp\; Bingo sets are sold at check-in for $40.00 and food\, beer and wine will be available for purchase during the event.&nbsp\; Space is limited and pre-registration is required at: <a href="https://ducksunlimited.myeventscenter.com/event/Bingo-At-Winehaven-Winery-In-Chisago-Lakes-47863">ducks.org</a>
LOCATION:Winehaven Winery 10020 Deer Garden Lane Chisago City\, MN 55013
UID:e.3575.817
SEQUENCE:3
DTSTAMP:20260423T110313Z
URL:https://business.chisagolakeschamber.com/events/details/wine-and-waterfowl-bingo-at-winehaven-817
END:VEVENT

END:VCALENDAR
