BEGIN:VCALENDAR
VERSION:2.0
PRODID:-//ChamberMaster//Event Calendar 2.0//EN
METHOD:PUBLISH
X-PUBLISHED-TTL:P3D
REFRESH-INTERVAL:P3D
CALSCALE:GREGORIAN
BEGIN:VEVENT
DTSTART;VALUE=DATE:20220521
DTEND;VALUE=DATE:20220531
TRANSP:TRANSPARENT
X-MICROSOFT-CDO-ALLDAYEVENT:TRUE
SUMMARY:Wine Slushy Fest at Winehaven!
DESCRIPTION:Things are heating up at Winehaven\, but we have just the thing to cool you off - amazing Wine Slushies! Get a flight of all six flavors\, or purchase your favorite slushy and get a special wine-barrel slushy glass for FREE! There is no admission and reservations are not required - be sure to bring your friends!
X-ALT-DESC;FMTTYPE=text/html:Things are heating up at Winehaven\, but we have just the thing to cool you off - amazing Wine Slushies! Get a flight of all six flavors\, or purchase your favorite slushy and get a special wine-barrel slushy glass for FREE! There is no admission and reservations are not required - be sure to bring your friends!
LOCATION:Winehaven Winery 10020 Deer Garden Lane Chisago City\, MN 55013
UID:e.3575.4273
SEQUENCE:3
DTSTAMP:20260421T115646Z
URL:https://business.chisagolakeschamber.com/events/details/wine-slushy-fest-at-winehaven-4273
END:VEVENT

END:VCALENDAR
