BEGIN:VCALENDAR
VERSION:2.0
PRODID:-//ChamberMaster//Event Calendar 2.0//EN
METHOD:PUBLISH
X-PUBLISHED-TTL:P3D
REFRESH-INTERVAL:P3D
CALSCALE:GREGORIAN
BEGIN:VEVENT
DTSTART:20200123T010000Z
DTEND:20200123T020000Z
X-MICROSOFT-CDO-ALLDAYEVENT:FALSE
SUMMARY:Winter Wellness at Uncommon Loon
DESCRIPTION:Are you sick of being sick or sluggish? Let's get you to dig yourself out. Join me in a discussion on ways you can feel better. \n\nEach class participant can create a roll-on to take home complimentary\, using Young Living Essential Oils.\n\n*This class is free\, with the promise that you will purchase a beer*\n\nRSVP to: scentsoftime1@yahoo.com so I have enough rollon's for everyone.
X-ALT-DESC;FMTTYPE=text/html:<span style="color: rgb(29\, 33\, 41)\; font-family: Helvetica\, Arial\, sans-serif\; font-size: 14px\; white-space: pre-wrap\;">Are you sick of being sick or sluggish? Let&rsquo\;s get you to dig yourself out. Join me in a discussion on ways you can feel better. </span><br style="color: rgb(29\, 33\, 41)\; font-family: Helvetica\, Arial\, sans-serif\; font-size: 14px\; white-space: pre-wrap\;" />\n<span style="color: rgb(29\, 33\, 41)\; font-family: Helvetica\, Arial\, sans-serif\; font-size: 14px\; white-space: pre-wrap\;">Each class participant can create a roll-on to take home complimentary\, using Young Living Essential Oils.</span><br style="color: rgb(29\, 33\, 41)\; font-family: Helvetica\, Arial\, sans-serif\; font-size: 14px\; white-space: pre-wrap\;" />\n<span style="color: rgb(29\, 33\, 41)\; font-family: Helvetica\, Arial\, sans-serif\; font-size: 14px\; white-space: pre-wrap\;">*This class is free\, with the promise that you will purchase a beer*</span><br style="color: rgb(29\, 33\, 41)\; font-family: Helvetica\, Arial\, sans-serif\; font-size: 14px\; white-space: pre-wrap\;" />\n<span style="color: rgb(29\, 33\, 41)\; font-family: Helvetica\, Arial\, sans-serif\; font-size: 14px\; white-space: pre-wrap\;">RSVP to: scentsoftime1@yahoo.com so I have enough rollon&rsquo\;s for everyone. </span>
LOCATION:Uncommon Loon Brewing Company 10825 Lake Blvd\, Chisago City 651-321-4468
UID:e.3575.158
SEQUENCE:3
DTSTAMP:20260424T162620Z
URL:https://business.chisagolakeschamber.com/events/details/winter-wellness-at-uncommon-loon-158
END:VEVENT

END:VCALENDAR
