BEGIN:VCALENDAR
VERSION:2.0
PRODID:-//ChamberMaster//Event Calendar 2.0//EN
METHOD:PUBLISH
X-PUBLISHED-TTL:P3D
REFRESH-INTERVAL:P3D
CALSCALE:GREGORIAN
BEGIN:VEVENT
DTSTART;VALUE=DATE:20221011
DTEND;VALUE=DATE:20221013
TRANSP:TRANSPARENT
X-MICROSOFT-CDO-ALLDAYEVENT:TRUE
SUMMARY:Women's Business Alliance 4th Annual SOAR Conference
DESCRIPTION:4th Annual SOAR (Seize Opportunities and Rise) Conference hosted by Women's Business Alliance\n\nNEW Hybrid Schedule with a Virtual & In-Person Event
X-ALT-DESC;FMTTYPE=text/html:4th Annual SOAR (Seize Opportunities and Rise) Conference hosted by Women&#39\;s Business Alliance<br />\nNEW Hybrid Schedule with a Virtual &amp\; In-Person Event
LOCATION:Day 1 (Virtual) Day 2 (In-Person) at Northern Lights Ballroom in Princeton
UID:e.3575.5106
SEQUENCE:3
DTSTAMP:20260422T215650Z
URL:https://business.chisagolakeschamber.com/events/details/women-s-business-alliance-4th-annual-soar-conference-5106
END:VEVENT

END:VCALENDAR
