BEGIN:VCALENDAR
VERSION:2.0
PRODID:-//ChamberMaster//Event Calendar 2.0//EN
METHOD:PUBLISH
X-PUBLISHED-TTL:P3D
REFRESH-INTERVAL:P3D
CALSCALE:GREGORIAN
BEGIN:VEVENT
DTSTART:20240305T220000Z
DTEND:20240305T230000Z
X-MICROSOFT-CDO-ALLDAYEVENT:FALSE
SUMMARY:Workshop: Member Portal for ChamberMaster
DESCRIPTION:Come learn how to use the member portal in ChamberMaster! Bring your laptop\, login and explore the features! Learn how to add your businesses events to the calendar\, promote specials\, add job postings\, register and pay for events with ease. etc.!
X-ALT-DESC;FMTTYPE=text/html:Come learn how to use the member portal in ChamberMaster! Bring your laptop\, login and explore the features! Learn how to add your businesses events to the calendar\, promote specials\, add job postings\, register and pay for events with ease. etc.!&nbsp\;
LOCATION:Chamber Building 30525 Linden St Lindstrom\, MN 555045
UID:e.3575.7062
SEQUENCE:3
DTSTAMP:20260420T035802Z
URL:https://business.chisagolakeschamber.com/events/details/workshop-member-portal-for-chambermaster-7062
END:VEVENT

END:VCALENDAR
